BEGIN:VCALENDAR
VERSION:2.0
CALSCALE:GREGORIAN
PRODID:-//MyApp//Calendar 1.0//EN
BEGIN:VEVENT
METHOD:PUBLISH
UID:7591@regionalniportaly.cz
DTSTAMP:20260424T135040Z
DTSTART;VALUE=DATE:20160923
DTEND;VALUE=DATE:20160924
SUMMARY:Noc sokoloven a Sokol open v Moravských Budějovicích 23. a 24. 9.
DESCRIPTION:Dvoudenní maraton pro děti v sokolovně – veřejnost vítána\, vstup zdarma\, občerstvení zajištěno\, za každého počasí.\n\nNoc sokoloven\nPátek 23. září od 16h\nProgram pro děti:\n– Sokolské Amazing race (znáte z TV\, dětské týmy absolvují trasu plnou úkolů)\n– Krátká přednáška o významné sportovní osobnosti\n– Opékání špekáčků (vlastní špekáčky s sebou)\n– Noční prohlídka sokolovny\n– Večerní hry\n– Přespání v sokolovně (snídaně zajištěna)\n\nSokol Open\nSobota 24. září od 10h\nCelodenní program pro děti\, rodiče a sportovce.\n\nPro nejmenší máme připraveno:\n– Skákací hrad\n– Dětská olympiáda\n– Tancování a cvičení\n– Pohádka v kině: Dešťová víla\n\nVystoupení našich členů uvidíte ve 12h
LOCATION:Moravské Budějovice
END:VEVENT
END:VCALENDAR