BEGIN:VCALENDAR
VERSION:2.0
CALSCALE:GREGORIAN
PRODID:-//MyApp//Calendar 1.0//EN
BEGIN:VEVENT
METHOD:PUBLISH
UID:65799@regionalniportaly.cz
DTSTAMP:20260423T111946Z
DTSTART;VALUE=DATE:20260507
DTEND;VALUE=DATE:20260508
SUMMARY:Dream Team
DESCRIPTION:Hlavním hrdinou komedie&nbsp\;Dream Team&nbsp\;je rázný a svérázný basketbalový trenér Marek\, který neuspěje při pokusu dostat svůj tým do druhé národní ligy. Nejraději by s trénováním úplně seknul. Jenže jeho syn Šimon\, který má mentální postižení\, sní o tom\, že jednou bude hrát basketbal za národní tým na paralympiádě. Marek\, který svého syna miluje\, se rozhodne mu tento sen splnit. Narazí ovšem na zásadní problém. Nedaří se mu totiž sestavit dostatečně početný tým vhodných hráčů\, kteří by zároveň splňovali paralympijské parametry. V tom okamžiku zasáhne jeho soused a neúspěšný divadelní režisér Daniel&nbsp\;s kuriózním plánem. Ten spočívá v&nbsp\;tom\, že mu pomůže sestavit tým ze zdravých basketbalistů\, kteří budou mentální postižení předstírat. Daniel přesvědčí Marka\, že jen tak mají šanci uspět a probojovat se na paralympijské hry v&nbsp\;brazilském Riu. Je to sice šíleně neetické\, ale Marek myslí jen na to\, aby byl jeho Šimon šťastný. A tak basketbalová výprava plná falešných hendikepovaných sportovců brzy nabírá směr Rio. Až pod horkým brazilským sluncem si Marek uvědomí\, do jak velkého průšvihu se řítí a že tuhle „životní zatáčku“ půjde vybrat jen hodně těžko.
LOCATION:Moravské Budějovice
END:VEVENT
END:VCALENDAR