BEGIN:VCALENDAR
VERSION:2.0
CALSCALE:GREGORIAN
PRODID:-//MyApp//Calendar 1.0//EN
BEGIN:VEVENT
METHOD:PUBLISH
UID:63271@regionalniportaly.cz
DTSTAMP:20260422T152230Z
DTSTART;VALUE=DATE:20260323
DTEND;VALUE=DATE:20260324
SUMMARY:Stefan Orins Trio (Francie)
DESCRIPTION:Jazzová formace Stefan Orins Trio prezentuje hudbu ovlivněnou skandinávským jazzem a nabízí též návrat k hudbě Keitha Jarretta ze 70. let. Autorskou&nbsp\;tvorbu&nbsp\;a interpretační mistrovství lídra a klavíristy Stefana Orinse doplňují Gauthier Dubuis na kontrabas a Tristan Orins na bicí.Předprodej vstupenek v síti smsticket.cz a turistickém informačním centru Moravské Budějovice.Vstupné na místě 250 Kč
LOCATION:Moravské Budějovice
END:VEVENT
END:VCALENDAR