BEGIN:VCALENDAR
VERSION:2.0
CALSCALE:GREGORIAN
PRODID:-//MyApp//Calendar 1.0//EN
BEGIN:VEVENT
METHOD:PUBLISH
UID:62347@regionalniportaly.cz
DTSTAMP:20260422T192857Z
DTSTART;VALUE=DATE:20260228
DTEND;VALUE=DATE:20260301
SUMMARY:Ples Žihadel
DESCRIPTION:Sdružení Patriots\, Fanclub Žihadla a HC Žihadla Moravské Budějovice - mládež\, z.s. vás tímto všechny srdečně zve na 5. Ples Žihadel.Ten se koná\, již tradičně\, na podporu mládežnického hokeje v Moravských Budějovicích.Na hlavním sále MKS Beseda nám od 20.00 zahraje kapela JARDA BANDSál Budivoj od 21.30 rozhýbe DJ RUDYSV kulturním programu vystoupí Profi aerobic team MBO památeční fotografie se Vám postará FUN FOTOKOUTEKBOHATÁ TOMBOLA samozřejmostí&nbsp\;Předprodej vstupenek v&nbsp\;síti&nbsp\;smsticket.cz&nbsp\;a v&nbsp\;turistickém informačním centru Moravské Budějovice.Vstupné v předprodeji:s místenkou 250 Kčbez místenky 200 KčVstupné&nbsp\;na místě 250 Kč&nbsp\;
LOCATION:Moravské Budějovice
END:VEVENT
END:VCALENDAR