BEGIN:VCALENDAR
VERSION:2.0
CALSCALE:GREGORIAN
PRODID:-//MyApp//Calendar 1.0//EN
BEGIN:VEVENT
METHOD:PUBLISH
UID:61630@regionalniportaly.cz
DTSTAMP:20260422T205420Z
DTSTART;VALUE=DATE:20260207
DTEND;VALUE=DATE:20260208
SUMMARY:Dlouhý\, Široký a Krátkozraký
DESCRIPTION:Divadelní hra z repertoáru Divadla Járy Cimrmana (autoři Zdeněk Svěrák a Ladislav Smoljak) v podání Divadla TJ Sokol Blížkovice.Předprodej vstupenek v&nbsp\;síti&nbsp\;smsticket.cz&nbsp\;a v&nbsp\;turistickém informačním centru Moravské Budějovice.Vstupné&nbsp\;na místě 250 Kč
LOCATION:Moravské Budějovice
END:VEVENT
END:VCALENDAR