BEGIN:VCALENDAR
VERSION:2.0
CALSCALE:GREGORIAN
PRODID:-//MyApp//Calendar 1.0//EN
BEGIN:VEVENT
METHOD:PUBLISH
UID:59863@regionalniportaly.cz
DTSTAMP:20260422T180934Z
DTSTART;VALUE=DATE:20251218
DTEND;VALUE=DATE:20251219
SUMMARY:Král králů
DESCRIPTION:Do kin brzy přichází Král králů – rodinný animovaný film\, který vypráví „největší příběh všech dob“ tak\, aby mu rozuměly i malé děti. Citlivě a srozumitelně pro rodinné publikum nabízí bezpečný způsob\, jak mluvit o naději\, lásce a odvaze\, a přináší společný zážitek pro rodiče i děti. Film staví na silné emoci spojující generace a přirozeně otevírá dialog o hodnotách v dnešním světě.Synopse: Když otec před spaním začne synovi vyprávět největší příběh všech dob\, obyčejná pohádka se promění v cestu\, která chlapci změní život. V jeho představách kráčí po boku Ježíše\, je svědkem zázraků\, zkoušek i poslední oběti – a krok za krokem poznává sílu naděje\, lásky a vykoupení očima dítěte. Král králů je rodinný animovaný film\, který srozumitelně a citlivě přibližuje příběh evangelia dětem i rodičům a zve celé rodiny do kina na sdílený zážitek a rozhovor o víře.Film je koncipován jako „child’s-eye story“ – vyprávění očima dítěte\, díky čemuž je srozumitelný a bezpečný i pro mladší publikum. Zároveň přináší silný společný moment pro rodiče a děti\, kteří hledají obsah s pozitivním poselstvím a prostorem pro společný rozhovor po projekci. Obzvlášť v období Vánoc\, kdy se u nás nejčastěji mluví o Ježíškovi\, tradicích a samotném příběhu\, film dětem srozumitelně vysvětlí\, o co jde\, a rodičům usnadní\, jak o tom spolu mluvit.
LOCATION:Moravské Budějovice
END:VEVENT
END:VCALENDAR