BEGIN:VCALENDAR
VERSION:2.0
CALSCALE:GREGORIAN
PRODID:-//MyApp//Calendar 1.0//EN
BEGIN:VEVENT
METHOD:PUBLISH
UID:59811@regionalniportaly.cz
DTSTAMP:20260422T150012Z
DTSTART;VALUE=DATE:20260326
DTEND;VALUE=DATE:20260327
SUMMARY:Lucie Bílá\, Recitál
DESCRIPTION:Recitál několikanásobné zlaté slavice Lucie Bílé za klavírního doprovodu Petra Maláska. Těšit se můžete na jedinečný hudební zážitek v podání toho nejlepšího hlasu české hudební scény.Délka pořadu: 90 min. bez přestávkyPředprodej vstupenek v síti smsticket.cz a turistickém informačním centru Moravské Budějovice
LOCATION:Moravské Budějovice
END:VEVENT
END:VCALENDAR