BEGIN:VCALENDAR
VERSION:2.0
CALSCALE:GREGORIAN
PRODID:-//MyApp//Calendar 1.0//EN
BEGIN:VEVENT
METHOD:PUBLISH
UID:59578@regionalniportaly.cz
DTSTAMP:20260422T151911Z
DTSTART;VALUE=DATE:20251121
DTEND;VALUE=DATE:20251122
SUMMARY:Anežka Binková: tour z cyklu "Krásná místa"
DESCRIPTION:Tour z cyklu "Krásná místa"Speciální hosté: Muzikanti na tripuPředprodej vstupenek v síti smsticket.cz a turistickém informačním centru Moravské Budějovice.Vstupné na místě 290 Kč.
LOCATION:Moravské Budějovice
END:VEVENT
END:VCALENDAR