BEGIN:VCALENDAR
VERSION:2.0
CALSCALE:GREGORIAN
PRODID:-//MyApp//Calendar 1.0//EN
BEGIN:VEVENT
METHOD:PUBLISH
UID:59252@regionalniportaly.cz
DTSTAMP:20260420T074656Z
DTSTART;VALUE=DATE:20251018
DTEND;VALUE=DATE:20251019
SUMMARY:Posvícení v muzeu
DESCRIPTION:
LOCATION:Moravské Budějovice
END:VEVENT
END:VCALENDAR