BEGIN:VCALENDAR
VERSION:2.0
CALSCALE:GREGORIAN
PRODID:-//MyApp//Calendar 1.0//EN
BEGIN:VEVENT
METHOD:PUBLISH
UID:59104@regionalniportaly.cz
DTSTAMP:20260422T162858Z
DTSTART;VALUE=DATE:20260122
DTEND;VALUE=DATE:20260123
SUMMARY:Muzikály Naruby
DESCRIPTION:Nejpopulárnější koncertní muzikálová show v ČR míří opět do Moravských Budějovic. A to v takové formě\, jak jste je ještě doposud neviděli.Koncertní zábavná show naplněná těmi největšími hity z českých i světových muzikálů.Muzikály Naruby\, to je koncert živé kapely\, která hraje známe hity tak\, jak je ještě nikdy nikdo neslyšel. Přední čeští zpěváci a muzikáloví herci Josef Vágner\, Jan Kopečný a Petr Ryšavý zpívají hity nejen z tradičních muzikálů jako jsou Bídníci\, Kleopatra\, Angelika\, Tři mušketýři\, ale také z českých hit-muzikálů. V programu tak zní ty největší hity W. Matušky\, V. Neckáře\, kapely Lucie\, J. Ledeckého\, K. Gotta\, M. Davida\, H. Vondráčkové\, L. Bílé\, H. Zagorové a dalších. Koncert je prokládaný vtipnými historkami ze zákulisí divadla a české hudební scény. Muzikály Naruby tradičně do posledního místa vyprodávají divadelní sály po celé ČR. A nesmíme zapomenout ani na jejich vyprodanou pražskou Lucernu\, či O2 Universum.Předprodej vstupenek v síti smsticket.cz a turistickém informačním centru Moravské Budějovice.Vstupné:zóna I - 990 Kč​zóna II - 890 Kčzóna III - 790 Kč (přístavek v historickém sále\, výhled neomezen)
LOCATION:Moravské Budějovice
END:VEVENT
END:VCALENDAR