BEGIN:VCALENDAR
VERSION:2.0
CALSCALE:GREGORIAN
PRODID:-//MyApp//Calendar 1.0//EN
BEGIN:VEVENT
METHOD:PUBLISH
UID:58976@regionalniportaly.cz
DTSTAMP:20260420T074538Z
DTSTART;VALUE=DATE:20251010
DTEND;VALUE=DATE:20251011
SUMMARY:Nilin sen o životě v rajské zahradě
DESCRIPTION:
LOCATION:Jemnice
END:VEVENT
END:VCALENDAR