BEGIN:VCALENDAR
VERSION:2.0
CALSCALE:GREGORIAN
PRODID:-//MyApp//Calendar 1.0//EN
BEGIN:VEVENT
METHOD:PUBLISH
UID:58308@regionalniportaly.cz
DTSTAMP:20260422T162848Z
DTSTART;VALUE=DATE:20260312
DTEND;VALUE=DATE:20260313
SUMMARY:Duo Jamaha - HIT TOUR 2026
DESCRIPTION:Zveme Vás na hudebně-zábavný program pro všechny generace!Hudební skupina DUO JAMAHA přichází s HIT Tour – koncert složený z největších hitů hudební skupiny namíchaný s humorným slovem a to i záhoráckým Stand-Up vystoupením\, o které se postará právě jeden z členů hudební skupiny.Skupina je známá hlavně z televizních obrazovek a rádií. Získala za prodej nosiče zlaté a platinové desky\, Oscara Smago Awards\, a jiná ocenění... přichází Vás opět zabavit a připravili si nezapomenutelný zážitek plný hudby a humoru. Přijďte si zazpívat\, odreagovat se a načerpat tu správnou energii. Na koncertě zazní rytmické melodické písně\, starší a novější hity!Tisíce lidí a fanoušků vidělo poslední turné po České a Slovenské republice.Těšíme se opět na Vás! Bude to skvělá jízda!Předprodej vstupenek v síti smsticket.cz a turistickém informačním centru Moravské Budějovice.Vstupné na místě 390&nbsp\;Kč.
LOCATION:Moravské Budějovice
END:VEVENT
END:VCALENDAR