BEGIN:VCALENDAR
VERSION:2.0
CALSCALE:GREGORIAN
PRODID:-//MyApp//Calendar 1.0//EN
BEGIN:VEVENT
METHOD:PUBLISH
UID:58002@regionalniportaly.cz
DTSTAMP:20260422T152217Z
DTSTART;VALUE=DATE:20251114
DTEND;VALUE=DATE:20251115
SUMMARY:Jiří Zmožek: Největší hity
DESCRIPTION:Hudební skladatel\, zpěvák a textař Jiří Zmožek se po třiceti letech vrátil na scénu ve velkém stylu. V zaplněné Lucerně oslavil své osmdesáté první narozeniny a zároveň pokřtil knihu svých pamětí s příznačným názvem Už mi lásko není 20 let. Představovat tuto legendu domácí hudební tvorby jistě netřeba\, jeho písně mluví samy za sebe.Jiří Zmožek\, autor stovek hitů pro největší hvězdy české a slovenské populární hudby\, mezi nimiž nechyběli Karel Gott\, Hana Zagorová\, Marie Rottrová\, Michal Tučný\, Helena Vondráčková či Věra Špinarová\, zavítá také do Moravských Budějovic.Diváci se mohou těšit na večer plný nezapomenutelných melodií\, mezi nimiž zazní například Už mi lásko není 20 let\, Tam u nebeských bran\, Nejhezčí dárek\, Zvonky štěstí\, Holuběnka\, Biograf láska\, Zřejmě letos nikde nejsou kytky a mnohé další.Předprodej vstupenek v síti smsticket.cz a turistickém informačním centru Moravské Budějovice.Vstupné na místě 390 Kč.
LOCATION:Moravské Budějovice
END:VEVENT
END:VCALENDAR