BEGIN:VCALENDAR
VERSION:2.0
CALSCALE:GREGORIAN
PRODID:-//MyApp//Calendar 1.0//EN
BEGIN:VEVENT
METHOD:PUBLISH
UID:57643@regionalniportaly.cz
DTSTAMP:20260422T145809Z
DTSTART;VALUE=DATE:20251030
DTEND;VALUE=DATE:20251031
SUMMARY:Bára Basiková - S úsměvy Donkichotů
DESCRIPTION:Kabaretní talk show S úsměvy Donkichotů volně navazuje nejen svým názvem\, ale i formátem na večer písní\, prozaických promluv a veršů dvojice Vodňanský – Skoumal za jejich období v Činoherním klubu.Aktéry nového pořadu jsou muzikanti a divadelníci Zbyněk Petržela a Vít Šujan\, kteří si jako hlavní hvězdu večera pozvali známou českou zpěvačku Báru Basikovou. Společně pak na písních a textech svých\, i někdejších kolegů V+S\, posluchače a diváky provedou nejen světem současným\, ale také úskalími dramatu\, nonsensu a komiky. Jejich stylově různorodé komentáře ukazují\, že metoda komorního hudebního divadla zůstává stále aktuální.Předprodej vstupenek v síti smsticket.cz a turistickém informačním centru Moravské Budějovice.Vstupné na místě: zóna I - 350 Kč​\, zóna II - 300 Kč.
LOCATION:Moravské Budějovice
END:VEVENT
END:VCALENDAR