BEGIN:VCALENDAR
VERSION:2.0
CALSCALE:GREGORIAN
PRODID:-//MyApp//Calendar 1.0//EN
BEGIN:VEVENT
METHOD:PUBLISH
UID:57523@regionalniportaly.cz
DTSTAMP:20260422T162838Z
DTSTART;VALUE=DATE:20251206
DTEND;VALUE=DATE:20251207
SUMMARY:Vánoční koncert Jakub Smolík s hostem Heidi
DESCRIPTION:Vánoční koncert věčného romantika s doprovodnou skupinou opět v našem městě. Tradiční zábavně koncertní vystoupení současné\, umělecko-interpretační osobnosti\, jež svými písněmi oslňuje zejména něžnou část publika. J. Smolík v minulém roce oslavil své 65. narozeniny\, a tak se chce se svými fanoušky poohlédnout i trochu proti proudu času a zavzpomínat. Koncert tak nabídne vedle hitů a vánočních melodií tohoto umělce i poohlédnutí na ty\, se kterými spolupracoval a na jevišti působil. Fanoušci budou mít i možnost si zakoupit nejen poslední album „Proto právě vám teď zpívám „ z roku 2020 a zbrusu nové album s názvem „Duety“.Host večera - Heidi Janků&nbsp\;
LOCATION:Moravské Budějovice
END:VEVENT
END:VCALENDAR