BEGIN:VCALENDAR
VERSION:2.0
CALSCALE:GREGORIAN
PRODID:-//MyApp//Calendar 1.0//EN
BEGIN:VEVENT
METHOD:PUBLISH
UID:57347@regionalniportaly.cz
DTSTAMP:20260422T145902Z
DTSTART;VALUE=DATE:20250921
DTEND;VALUE=DATE:20250922
SUMMARY:Princezna Čokoláda
DESCRIPTION:Dobře naladěné divadlo zahraje pohádku o jedné princezně\, která má ráda jen sladkosti\, bonbony a hlavně čokoládu. Bolí ji z toho bříško\, zoubky a je bledá. Naštěstí je tu jeden moudrý čaroděj\, který&nbsp\;si se vším ví rady.Předprodej vstupenek v síti smsticket.cz a turistickém informačním centru Moravské Budějovice.
LOCATION:Moravské Budějovice
END:VEVENT
END:VCALENDAR