BEGIN:VCALENDAR
VERSION:2.0
CALSCALE:GREGORIAN
PRODID:-//MyApp//Calendar 1.0//EN
BEGIN:VEVENT
METHOD:PUBLISH
UID:57346@regionalniportaly.cz
DTSTAMP:20260422T175457Z
DTSTART;VALUE=DATE:20250919
DTEND;VALUE=DATE:20250920
SUMMARY:Dokonalá svatba
DESCRIPTION:Komedie v podání Ochotnického divadla Opatov. Svatebí obřad a chvíle před ním jsou obvykle situací\, kdy se lámou životní osudy. Tak je to i v případě Billa a Rachel\, kteří se budou dnes brát... Nebo ne?Předprodej vstupenek v síti smsticket.cz a turistickém informačním centru Moravské Budějovice.
LOCATION:Moravské Budějovice
END:VEVENT
END:VCALENDAR