BEGIN:VCALENDAR
VERSION:2.0
CALSCALE:GREGORIAN
PRODID:-//MyApp//Calendar 1.0//EN
BEGIN:VEVENT
METHOD:PUBLISH
UID:57345@regionalniportaly.cz
DTSTAMP:20260422T175441Z
DTSTART;VALUE=DATE:20250915
DTEND;VALUE=DATE:20250916
SUMMARY:Královny
DESCRIPTION:Divadelní spolek Tyl Dačice uvádí tragikomedii plnou humoru Michaely Doležalové a Romana Vencla. 3 ženy\, 3 generace\, 3 osobnosti - a všechny shodou okolností několik dní na jednom lázeňském pokoji.Předprodej vstupenek v síti smsticket.cz a turistickém informačním centru Moravské Budějovice.
LOCATION:Moravské Budějovice
END:VEVENT
END:VCALENDAR