BEGIN:VCALENDAR
VERSION:2.0
CALSCALE:GREGORIAN
PRODID:-//MyApp//Calendar 1.0//EN
BEGIN:VEVENT
METHOD:PUBLISH
UID:57320@regionalniportaly.cz
DTSTAMP:20260422T162817Z
DTSTART;VALUE=DATE:20250925
DTEND;VALUE=DATE:20250926
SUMMARY:Kino Sokol: Sbormistr
DESCRIPTION:Vítězslav Mácha\, charismatický mladý muž s pověstí skvělého\, ale taky autoritářského sbormistra\, vede dívčí pěvecký sbor. Třináctiletá Karolína se v tomto extrémně soutěživém kolektivu snaží prosadit a vyrovnat se tak své starší sestře...\nPřijďte ve čtvrtek 25. 9. 2025 do kina v moravskobudějovickém Sokole na nové české drama inspirované skutečnou událostí. Promítáme od 20:00\, pokladna a bar otevírají už v 19:00. \nVstupné zakoupíte on-line\, v MKS Beseda nebo přímo na místě v den promítání od 19.00.\n 
LOCATION:Moravské Budějovice
END:VEVENT
END:VCALENDAR