BEGIN:VCALENDAR
VERSION:2.0
CALSCALE:GREGORIAN
PRODID:-//MyApp//Calendar 1.0//EN
BEGIN:VEVENT
METHOD:PUBLISH
UID:57306@regionalniportaly.cz
DTSTAMP:20260422T193058Z
DTSTART;VALUE=DATE:20250915
DTEND;VALUE=DATE:20250927
SUMMARY:XXI. Horákův Horácký festival
DESCRIPTION:Dvacátý první ročník Horákova Horáckého festivalu je tady!Co nás letos čeká?15. 9. 2025&nbsp\;- Královny\, Divadelní spolek Tyl Dačice19. 9. 2025&nbsp\;- Dokonalá svatba\, ochotnické divadlo Opatov21. 9. 2025&nbsp\;- Princezna Čokoláda\, Dobře naladěné divadlo27. 9. 2025 - Nikdo nejsme normální\, Divadlo SypalPředprodej vstupenek v síti smsticket.cz a turistickém informačním centru Moravské Budějovice.
LOCATION:Moravské Budějovice
END:VEVENT
END:VCALENDAR