BEGIN:VCALENDAR
VERSION:2.0
CALSCALE:GREGORIAN
PRODID:-//MyApp//Calendar 1.0//EN
BEGIN:VEVENT
METHOD:PUBLISH
UID:57280@regionalniportaly.cz
DTSTAMP:20260422T144837Z
DTSTART;VALUE=DATE:20250910
DTEND;VALUE=DATE:20250911
SUMMARY:Slečna Moxy
DESCRIPTION:Devítiletá Josie má tříbarevnou kočku Moxy\, s níž hraje na klavír a zpívá. Moxy je navíc členkou kočičího gangu\, který ve městě zlobí psy a ptáky. Jednoho dne se rodina Josie vypraví na dovolenou\, kam holčička propašuje i svou čtyřnohou kamarádku. Na farmě u Rity potkají buldoka Bruta\, jenž musí trénovat na televizní talentovou show. A protože Rita zahlédne potenciál i v muzikální Moxy\, ukradne ji. Moxy přemluví Bruta\, aby s ní utekl\, a seznámí se s vlaštovkou Ayou. Tito noví zvířecí společníci\, jimiž by dříve opovrhovala\, ji provázejí na její dlouhé cestě domů. Zvířátka využívají nejrůznější dopravní prostředky a potkávají další zástupce živočišné říše\, kteří jim přispěchají na pomoc. Rita je ovšem uprchlíkům v patách\, chce soutěž vyhrát za každou cenu. Jenže Josie spěchá zachránit milovanou čtyřnohou kamarádku a její nové přátele…
LOCATION:Moravské Budějovice
END:VEVENT
END:VCALENDAR