BEGIN:VCALENDAR
VERSION:2.0
CALSCALE:GREGORIAN
PRODID:-//MyApp//Calendar 1.0//EN
BEGIN:VEVENT
METHOD:PUBLISH
UID:56558@regionalniportaly.cz
DTSTAMP:20260422T145921Z
DTSTART;VALUE=DATE:20250913
DTEND;VALUE=DATE:20250914
SUMMARY:COOL LAST DANCE
DESCRIPTION:Máš jedinečnou příležitost se přijít rozloučit s legendárním jemnickým klubem\, a to hned ve velkém stylu. Teď nebo už nikdy.&nbsp\;&nbsp\;#COOLLASTDANCE
LOCATION:Jemnice
END:VEVENT
END:VCALENDAR