BEGIN:VCALENDAR
VERSION:2.0
CALSCALE:GREGORIAN
PRODID:-//MyApp//Calendar 1.0//EN
BEGIN:VEVENT
METHOD:PUBLISH
UID:55845@regionalniportaly.cz
DTSTAMP:20260422T133343Z
DTSTART;VALUE=DATE:20250712
DTEND;VALUE=DATE:20250713
SUMMARY:Family Food Festival a Letní noc
DESCRIPTION:Srdečně vás zveme na druhý ročník Family Food Festivalu CZ v Moravských Budějovicích\, který proběhne v sobotu 12. července.\nČeká vás hostina plná výborného jídla\, osvěžujících drinků a skvělé atmosféry pro celou rodinu. Večer navíc proběhne tradiční Letní noc. \nFestival startuje od 10.00 hod. opět na kouzelném zámeckém nádvoří. Program potrvá do nedělního rána.\nVstup na festival je zdarma\, vstupenky na letní noc zakoupíte za 150 Kč.\nSledujte akci pro více informací na Facebooku.
LOCATION:Moravské Budějovice
END:VEVENT
END:VCALENDAR