BEGIN:VCALENDAR
VERSION:2.0
CALSCALE:GREGORIAN
PRODID:-//MyApp//Calendar 1.0//EN
BEGIN:VEVENT
METHOD:PUBLISH
UID:55758@regionalniportaly.cz
DTSTAMP:20260422T145952Z
DTSTART;VALUE=DATE:20250829
DTEND;VALUE=DATE:20250830
SUMMARY:Loučení s prázdninami
DESCRIPTION:LOUČENÍ S PRÁZDNINAMI 2025Připrav se na poslední velkou letní jízdu!&nbsp\;V pátek 29. srpna od 17:00 v areálu letního kina Moravské Budějovice se rozloučíme s prázdninami tak\, jak se sluší – hudbou\, atmosférou a přáteli. 🎶🍻Na pódiu to rozjedou:UDG – pop-rocková energie\, co tě nenechá státJakub Děkan – hlas\, který znáš z rádií i festivalůThe Feet – zábavová kapela\, která rozhýbe publikum napříč žánryTady nikdo není – domácí punk-rocková jízdaKatie – pop-folkový mix autorských i převzatých písníProdej vstupenek&nbsp\;v síti smsticket.cz a v turistickém informačním centru Moravské Budějovice.Vstupné na místě za 290 Kč.
LOCATION:Moravské Budějovice
END:VEVENT
END:VCALENDAR