BEGIN:VCALENDAR
VERSION:2.0
CALSCALE:GREGORIAN
PRODID:-//MyApp//Calendar 1.0//EN
BEGIN:VEVENT
METHOD:PUBLISH
UID:55325@regionalniportaly.cz
DTSTAMP:20260422T103901Z
DTSTART;VALUE=DATE:20250331
DTEND;VALUE=DATE:20251031
SUMMARY:Výstava: Roztáhni křídla a leť
DESCRIPTION:
LOCATION:Moravské Budějovice
END:VEVENT
END:VCALENDAR