BEGIN:VCALENDAR
VERSION:2.0
CALSCALE:GREGORIAN
PRODID:-//MyApp//Calendar 1.0//EN
BEGIN:VEVENT
METHOD:PUBLISH
UID:54861@regionalniportaly.cz
DTSTAMP:20260422T175543Z
DTSTART;VALUE=DATE:20250803
DTEND;VALUE=DATE:20250804
SUMMARY:Letní kino: Zlatovláska
DESCRIPTION:Královský panoš Jiřík ochutná sousto z&nbsp\;magického hada a&nbsp\;porozumí řeči zvířat. Proviní se&nbsp\;tím však proti příkazu svého krále\, a&nbsp\;tak jej čeká buď trest smrti\, nebo&nbsp\;nejistá a&nbsp\;nebezpečná cesta za&nbsp\;Zlatovláskou\, princeznou z&nbsp\;tajemné říše uprostřed moře. Vydá se&nbsp\;proto na&nbsp\;cestu v&nbsp\;doprovodu Štěpána\, se&nbsp\;kterým vyrůstal od&nbsp\;dětství\, a&nbsp\;malého psíka Štístka\, jemuž Jiřík zachránil život. Jiříka čeká po&nbsp\;cestě&nbsp\;celá řada dobrodružství i&nbsp\;překvapení. Netuší\, že&nbsp\;Štěpánem cloumá závist a&nbsp\;není to&nbsp\;tak upřímný kamarád\, jakým se&nbsp\;zdál být. Naštěstí má Jiřík statečné spojence\, zvířátka\, kterým pomohl.Hrají:&nbsp\;Tomáš Weber\, Marek Lambora\, Jasmína Houf\, Petr Štěpánek\, Ján Jackuliak\, Marián Mitaš\, Tomáš Matonoha\, Jan Budař\, Martin Myšička\, Pius Okaba\, Viktória Jurištová\, Martin Písařík (pes Štístko) a další.Předprodej vstupenek v síti smsticket.cz a turistickém informačním centru Moravské Budějovice.
LOCATION:Moravské Budějovice
END:VEVENT
END:VCALENDAR