BEGIN:VCALENDAR
VERSION:2.0
CALSCALE:GREGORIAN
PRODID:-//MyApp//Calendar 1.0//EN
BEGIN:VEVENT
METHOD:PUBLISH
UID:54858@regionalniportaly.cz
DTSTAMP:20260422T175655Z
DTSTART;VALUE=DATE:20250814
DTEND;VALUE=DATE:20250815
SUMMARY:Letní kino: Jak se nám to mohlo stát!?
DESCRIPTION:Po&nbsp\;pětadvaceti letech od&nbsp\;legendárních Pelíšků konečně znovu v&nbsp\;kinech rozehrají Miroslav Donutil a&nbsp\;Bolek Polívka pořádnou komedii.Ve&nbsp\;filmu\, který nám ukáže\, že&nbsp\;ty&nbsp\;největší rozdíly mezi lidmi mohou být zdrojem humoru a&nbsp\;inspirace\, se&nbsp\;představí také Jitka Čvančarová\, Eva&nbsp\;Leinweberová\, Simona Lewandovská\, Jiří Ployhar\, Ondřej Bauer\, Tereza Blažková a&nbsp\;Filip Červenka.Děj filmu se&nbsp\;točí kolem střetu dvou naprosto odlišných rodin – aristokratických Cimburk-Kolovratníků a&nbsp\;skromnějších Novákových\, kteří se&nbsp\;setkávají u&nbsp\;příležitosti plánované svatby svých dětí. Budoucí nevěsta a&nbsp\;ženich při té příležitosti nabídnou svým rodičům testy DNA\, které odhalí jejich skutečný původ. Výsledky jsou naprosto nečekané a&nbsp\;zapříčiní efekt bomby.Hrají:&nbsp\;Jitka Čvančarová\, Boleslav Polívka\, Miroslav Donutil\, Eva Leinweberová\, Simona Lewandovská\, Filip Červenka.Předprodej vstupenek v síti smsticket.cz a turistickém informačním centru Moravské Budějovice.
LOCATION:Moravské Budějovice
END:VEVENT
END:VCALENDAR