BEGIN:VCALENDAR
VERSION:2.0
CALSCALE:GREGORIAN
PRODID:-//MyApp//Calendar 1.0//EN
BEGIN:VEVENT
METHOD:PUBLISH
UID:54722@regionalniportaly.cz
DTSTAMP:20260422T193035Z
DTSTART;VALUE=DATE:20250712
DTEND;VALUE=DATE:20250713
SUMMARY:Kiss Revival
DESCRIPTION:Kapela Kiss Revival s nezaměnitelnou show\, ke kterému patří např. plivání ohně\, rozbíjení kytary\, sršící sólová kytara\, představí největší hity skupiny Kiss jako Shout It Out Loud\, Strutter\, Rock n Roll All Nite\, God of Thunder.V programu se můžete těšit nejen na tyto populární hity\, ale také na další atraktivní skladby\, které rozechvějí vaše srdce.
LOCATION:Bítov
END:VEVENT
END:VCALENDAR