BEGIN:VCALENDAR
VERSION:2.0
CALSCALE:GREGORIAN
PRODID:-//MyApp//Calendar 1.0//EN
BEGIN:VEVENT
METHOD:PUBLISH
UID:53946@regionalniportaly.cz
DTSTAMP:20260422T175554Z
DTSTART;VALUE=DATE:20250808
DTEND;VALUE=DATE:20250810
SUMMARY:Moravskobudějovické Kulturní léto 2025
DESCRIPTION:Koupí tohoto předplatného získáte vstupenku&nbsp\;na všechny tři koncerty za výhodnější cenu!8.8.2025&nbsp\;- Olympic9.8.2025&nbsp\;- No Name + Botox10.8.2025&nbsp\;-&nbsp\;Richard Müller
LOCATION:Moravské Budějovice
END:VEVENT
END:VCALENDAR