BEGIN:VCALENDAR
VERSION:2.0
CALSCALE:GREGORIAN
PRODID:-//MyApp//Calendar 1.0//EN
BEGIN:VEVENT
METHOD:PUBLISH
UID:53945@regionalniportaly.cz
DTSTAMP:20260422T193044Z
DTSTART;VALUE=DATE:20250810
DTEND;VALUE=DATE:20250811
SUMMARY:Richard Müller - Kulturní léto 2025
DESCRIPTION:Richard Müller je legendou česko-slovenské hudební scény\, vynikající zpěvák s nezapomenutelným hlasem\, hudebník\, skladatel a textař.Hudební kariéru započal v polovině 80. let se svojí skupinou Banket\, v roce 1992 se vydal na sólovou dráhu. Od té doby natočil více než 20 alb\, na kterých spolupracoval s&nbsp\;mnoha zvučnými jmény\, jako například Petr Hapka\, Michal Horáček\, Milan Lasica\, Michal Pavlíček nebo Ondřej Brzobohatý. V Česku a na Slovensku se prodalo celkem více než 1 milion jeho desek.Získal řadu hudebních ocenění\, mezi nimi osmnáct cen Aurel\, dvanáct umístění mezi nejlepšími zpěváky v anketě Slávik nebo ceny Grand Prix Rádio. Jeho nejnovějším hudebním počinem je album Duety z roku 2024\, které obsahuje duety Richarda Müllera nahrané od roku 1988 až do současnosti a také několik nových duetů\, včetně ústředního singlu Keď zametú s Darou Rollins.Předprodej vstupenek v síti smsticket.cz a v turistickém informačním centru Moravské Budějovice.Vstupné na místě 1090&nbsp\;Kč.
LOCATION:Moravské Budějovice
END:VEVENT
END:VCALENDAR