BEGIN:VCALENDAR
VERSION:2.0
CALSCALE:GREGORIAN
PRODID:-//MyApp//Calendar 1.0//EN
BEGIN:VEVENT
METHOD:PUBLISH
UID:53944@regionalniportaly.cz
DTSTAMP:20260422T180959Z
DTSTART;VALUE=DATE:20250809
DTEND;VALUE=DATE:20250810
SUMMARY:No Name + Botox - Kulturní léto 2025
DESCRIPTION:Slovenská kapela No Name patří mezi ty hudební skupiny\, které se dokázaly hluboce zapsat do paměti i srdcí posluchačů. Jejich melodické hity a texty plné emocí a životních pravd z nich udělaly jednu z nejoblíbenějších kapel nejen na Slovensku\, ale také v Česku.No Name jsou známí svou přátelskou a pozitivní energií\, kterou šíří na svých koncertech. Každé jejich vystoupení je zážitek plný emocí\, radosti a nezapomenutelné atmosféry. Jejich hudba spojuje generace a zanechává za sebou pocit\, že život je krásný\, i když občas není jednoduchý.BOTOXNadsázka a radost z hudby dává dohromady autorskou pop-rockovou kapelu BOTOX. Pěvecká a autorská složka kapely vznikla spojením Honzy Kopečného a Petra Ryšavého. Kompletní obsazení kapely aktivně působí od roku 2018\, připojením rytmické sekce Matěje\, Petra a Dalimila.Na kontě má již několik hitů\, které zařadila česká rádia jako Popelář\, Nadechnout\, Srdceatentát např. vyhrál 11 x hitparádu Frekvence 1.Předprodej vstupenek v síti smsticket.cz a v turistickém informačním centru Moravské Budějovice.Vstupné na místě 690&nbsp\;Kč.
LOCATION:Moravské Budějovice
END:VEVENT
END:VCALENDAR