BEGIN:VCALENDAR
VERSION:2.0
CALSCALE:GREGORIAN
PRODID:-//MyApp//Calendar 1.0//EN
BEGIN:VEVENT
METHOD:PUBLISH
UID:52546@regionalniportaly.cz
DTSTAMP:20260422T105313Z
DTSTART;VALUE=DATE:20250322
DTEND;VALUE=DATE:20250629
SUMMARY:Výstava: Viditelné se skrytým
DESCRIPTION:
LOCATION:Jaroměřice nad Rokytnou
END:VEVENT
END:VCALENDAR