BEGIN:VCALENDAR
VERSION:2.0
CALSCALE:GREGORIAN
PRODID:-//MyApp//Calendar 1.0//EN
BEGIN:VEVENT
METHOD:PUBLISH
UID:52493@regionalniportaly.cz
DTSTAMP:20260422T162909Z
DTSTART;VALUE=DATE:20250529
DTEND;VALUE=DATE:20250530
SUMMARY:Psychohrátky s Evou Holubovou
DESCRIPTION:"Psychohrátky" jsou populárně naučná zábavná show o duševním zdraví z dílny Holubice Agency. Tato unikátní show přináší důležité informace o duševním zdraví prostřednictvím zábavy a interakce. V pořadu vystupují Eva Holubová\, Karolína Holubová\, Matěj Paprčiak a psycholog Jiří Valášek.Každé představení "Psychohrátek" je jedinečné. Jedná se o show s prvky stand-upu a besedy\, která se zaměřuje na určité téma\, avšak samotný průběh je také zčásti utvářen přímo diváky\, kteří jsou srdečně zváni k položení otázek a aktivnímu zapojení do diskuze. Během besedy jsou vtipnými scénkami předváděny modelové situace\, které jsou následně vysvětleny odborníkem na psychologii. Tento přístup umožňuje divákům lépe porozumět danému tématu a sdílet své otázky a zkušenosti s účinkujícími. Při "Psychohrátkách" je klíčové vytvořit příjemné a bezpečné prostředí\, kde se diváci cítí pohodlně a mohou klást jak intimní\, tak anonymní otázky. Zároveň se nejedná jen o pouhý přenos informací\, ale i o zábavu\, humor a odlehčení tématu.Předprodej vstupenek v síti smsticket.cz a turistickém informačním centru Moravské Budějovice.Vstupné na místě 490&nbsp\;Kč.
LOCATION:Moravské Budějovice
END:VEVENT
END:VCALENDAR