BEGIN:VCALENDAR
VERSION:2.0
CALSCALE:GREGORIAN
PRODID:-//MyApp//Calendar 1.0//EN
BEGIN:VEVENT
METHOD:PUBLISH
UID:52489@regionalniportaly.cz
DTSTAMP:20260422T175533Z
DTSTART;VALUE=DATE:20250507
DTEND;VALUE=DATE:20250508
SUMMARY:Přepište dějiny
DESCRIPTION:Oblíbené duo historiků se svým putovním podcastem Přepište dějiny zavítá do Moravských Budějovic. Martin Groman a Michal Stehlík podiskutují spolu i s místním publikem o nečekaných zákrutech české historie. Tentokrát o&nbsp\;konci 2. světové války v&nbsp\;našem městě&nbsp\;a regionu\, a&nbsp\;změnách jeho&nbsp\;interpretace v čase.&nbsp\;Něco uvedou na pravou míru\, něčím své posluchače zase z míry vyvedou\, ale před žádným tématem necouvnou.Přijďte se pobavit\, zamyslet a dozvědět něco o historii - a možná i o sobě a o naučených pravdách\, které pravdou vůbec nemusí být.Protagonisty „Přepiště dějiny“ jsou&nbsp\;prof. PhDr. Michal Stehlík\, Ph.D.\, přední český historik\, profesor Filozofické fakulty Univerzity Karlovy\, ředitel Památníku národního písemnictví a&nbsp\;PhDr. Martin Groman\, Ph.D.\,&nbsp\;novinář\, publicista\, „doktor přes staré noviny“ působící na katedře mediálních studií Institutu komunikačních studií a žurnalistiky Fakulty sociálních věd Univerzity Karlovy a na Metropolitní Univerzitě Praha\, předseda Společnosti Ferdinanda Peroutky.Předprodej vstupenek v síti smsticket.cz a turistickém informačním centru Moravské Budějovice.Vstupné na místě 280 Kč.
LOCATION:Moravské Budějovice
END:VEVENT
END:VCALENDAR