BEGIN:VCALENDAR
VERSION:2.0
CALSCALE:GREGORIAN
PRODID:-//MyApp//Calendar 1.0//EN
BEGIN:VEVENT
METHOD:PUBLISH
UID:52163@regionalniportaly.cz
DTSTAMP:20260422T150002Z
DTSTART;VALUE=DATE:20251002
DTEND;VALUE=DATE:20251003
SUMMARY:S Markem za gorilami
DESCRIPTION:Srdečně Vás zveme&nbsp\;na besedu Marka Ždánského a Vladimíra Čecha. Marek Ždánský\, kterého možná znáte z různých televizních vystoupení\, je bývalý ošetřovatel goril v pražské ZOO. O prvním gorilím mláděti\, gorilce Moje\, napsal knihu - Moja - příběh gorilí slečny. Později vydal i další knihy Gorilí táta a Gorilí táta v Africe.Marek Ždánský se s námi podělí o své zážitky při setkávání s těmito krásnými zvířaty\, přijede s ním i fotograf Vladimír Čech. Vladimír Čech gorily nejen fotografuje\, ale snaží se jim spolu s Markem i pomáhat. Oba se stali&nbsp\;ambasadory parku Kahuzi Biega v Kongu\, společně založili neziskovou organizaci a snaží se získat peníze na podporu strážců\, stopařů či lékařů\, kteří gorilám pomáhají.Účastí na přednášce i Vy přispějete na lepší život goril.
LOCATION:Moravské Budějovice
END:VEVENT
END:VCALENDAR