BEGIN:VCALENDAR
VERSION:2.0
CALSCALE:GREGORIAN
PRODID:-//MyApp//Calendar 1.0//EN
BEGIN:VEVENT
METHOD:PUBLISH
UID:52018@regionalniportaly.cz
DTSTAMP:20260422T175216Z
DTSTART;VALUE=DATE:20250410
DTEND;VALUE=DATE:20250411
SUMMARY:Kino Sokol - Tichá pošta
DESCRIPTION:U příležitosti 80. výročí ukončení 2. světové války Vás zveme ve čtvrtek 10. 4.  ve 20.00 do kina na nový český film\, který vypráví skutečný příběh této doby.\nFilm Tichá pošta je o odvaze malých i velkých hrdinů\, který se odehrává v zimě roku 1945 v zasněžených Krkonoších. Toto napínavé zimní dobrodružství vzniklo podle knižní předlohy spisovatele Jiřího Stránského. Je to dětský příběh o empatii\, rebelii\, radosti\, odvaze a naději v době\, kdy šance na přežití záleží někdy jenom na štěstí. 
LOCATION:Moravské Budějovice
END:VEVENT
END:VCALENDAR