BEGIN:VCALENDAR
VERSION:2.0
CALSCALE:GREGORIAN
PRODID:-//MyApp//Calendar 1.0//EN
BEGIN:VEVENT
METHOD:PUBLISH
UID:51960@regionalniportaly.cz
DTSTAMP:20260422T162941Z
DTSTART;VALUE=DATE:20250410
DTEND;VALUE=DATE:20250411
SUMMARY:Tichá pošta
DESCRIPTION:Tichá pošta vypráví skutečný příběh o odvaze malých i velkých hrdinů\, který se odehrává v zimě roku 1945 v zasněžených Krkonoších. Toto napínavé zimní dobrodružství vzniklo podle knižní předlohy spisovatele Jiřího Stránského.Dobrodružný rodinný film Tichá pošta se odehrává v zimě v zasněžených Krkonoších na sklonku německé okupace. Skupinka dětí zachraňuje sestřeleného francouzského pilota\, kterého našla v lese. Jejich akce připomíná princip známé hry na tichou poštu – zraněného pilota si děti mezi sebou předávají z jedné horské vesnice do druhé\, podobně jako utajenou zprávu ve škole. Hrají ale riskantní hru\, protože proti nim stojí smrtelně nebezpeční vojáci okupační armády\, musí přelstít zrádce a udavače a v neposlední řadě přežít v krutých podmínkách zimy na horách. Jejich cílem je několik desítek kilometrů vzdálená nemocnice\, kde najdou pro Pierra bezpečnou pomoc. Režisér Ján Sebechlebský k filmu a jeho příběhu prozrazuje: „Proč dnes vyprávět další příběh z konce II. světové války? Protože je to dětský příběh o empatii\, rebelii\, radosti\, odvaze a naději v době\, kdy šance na přežití záleží někdy jenom na štěstí. Je to jeden z příběhů\, kdy se děti spiklenecky postaví proti světu dospělých\, aby někoho zachránily.“
LOCATION:Moravské Budějovice
END:VEVENT
END:VCALENDAR