BEGIN:VCALENDAR
VERSION:2.0
CALSCALE:GREGORIAN
PRODID:-//MyApp//Calendar 1.0//EN
BEGIN:VEVENT
METHOD:PUBLISH
UID:51468@regionalniportaly.cz
DTSTAMP:20260422T205519Z
DTSTART;VALUE=DATE:20250607
DTEND;VALUE=DATE:20250608
SUMMARY:Country fest pod věží
DESCRIPTION:Paprsek radostného žití\, z.s. Vás zve na třetí ročník festivalu\, který do města přivádí country\, folkovou a trampskou muziku.Na zámeckém nádvoří přivítáme stálice tohoto žánru\, skupinu Poutníci. Těšit se můžeme na hity jako Panenka\, Až uslyším hvízdání\, Pojďme se napít\, Zvony mě do dáli zvou a mnohé další.Svoje nové album u nás pokřtí známá zpěvačka a autorka Pavlína Jíšová\, vystupující v uskupení Pavlína Jíšová &amp\; BOHADLO. Kromě horkých novinek Uvědomění či Matka a dcera si budeme moci zavzpomínat na slavné a stále oblíbené písně Někdo jiný než jsem já\, Přijela jsem v cadillacu\, Písek\, Já\, písnička\, Mary Margaret\, Žába.Seznámíme se s novým uskupením s názvem Peripetie a jejich tvorbou.Vyslechneme populární kapely domácí scény\, skupiny Tuláci a Duha\, která celý program završí závěrečným country bálem.Vedlejší scéna bude i tentokrát patřit oblíbené skupině Plechová blecha.Opět se bude soutěžit o zajímavé ceny.Občerstvení zajištěno.V případě nepříznivého počasí se akce přesouvá do Velkého sálu Besedy.&nbsp\;Předprodej vstupenek v síti smsticket.cz a turistickém informačním centru Moravské Budějovice.Vstupné na místě 490 Kč.
LOCATION:Moravské Budějovice
END:VEVENT
END:VCALENDAR