BEGIN:VCALENDAR
VERSION:2.0
CALSCALE:GREGORIAN
PRODID:-//MyApp//Calendar 1.0//EN
BEGIN:VEVENT
METHOD:PUBLISH
UID:51310@regionalniportaly.cz
DTSTAMP:20260422T193715Z
DTSTART;VALUE=DATE:20250526
DTEND;VALUE=DATE:20250527
SUMMARY:Grande Moravia - koncert nejlákavějších filmových  melodií Ennia Morriconeho
DESCRIPTION:Dokonale vybroušený program nejlákavějších filmových melodií Ennia Morriconeho hraje znamenitý orchestr GRANDE MORAVIA Ladislava Pavluše.Celkový dojem z koncertu je navíc umocněn kouzelnými tóny cimbálu a VIDEOPROJEKCÍ.Výjimečnost hudby Ennia Morriconeho tkví v tom\, že ji chcete poslouchat stále a stále\, pokaždé vás nadchne a najdete v ní něco nového.
LOCATION:Moravské Budějovice
END:VEVENT
END:VCALENDAR