BEGIN:VCALENDAR
VERSION:2.0
CALSCALE:GREGORIAN
PRODID:-//MyApp//Calendar 1.0//EN
BEGIN:VEVENT
METHOD:PUBLISH
UID:48857@regionalniportaly.cz
DTSTAMP:20260422T192929Z
DTSTART;VALUE=DATE:20250209
DTEND;VALUE=DATE:20250210
SUMMARY:Karol a Kvído: Divadelní představení – Pirátský poklad
DESCRIPTION:Další nezapomenutelný zážitek oblíbené dětské dvojice Karol a&nbsp\;Kvido. Ta se vydává na cestu za záhadným pokladem různými dopravními prostředky\, díky kterým se dostane až do vesmíru. Tam se setká s&nbsp\;novým kamarádem Marťánkem\, který jim poradí\, kde poklad hledat.Zvládnou Karol a&nbsp\;Kvído najít poklad? Podaří se jim přelstít piráta? To vše zjistíte v&nbsp\;našem novém příběhu. Během představení zazní oblíbené hity i&nbsp\;nové písničky Mořský svět\, Pirátská písnička nebo Hrajeme fér.Focení s Karol 15:30 - 15:50.Děti do 3 let mají vstup zdarma\, avšak bez nároku na vlastní sedačku – musí sedět na klíně dospělého.Předprodej vstupenek v síti smsticket.cz a turistickém informačním centru Moravské Budějovice.Vstupné na místě 550&nbsp\;Kč.
LOCATION:Moravské Budějovice
END:VEVENT
END:VCALENDAR