BEGIN:VCALENDAR
VERSION:2.0
CALSCALE:GREGORIAN
PRODID:-//MyApp//Calendar 1.0//EN
BEGIN:VEVENT
METHOD:PUBLISH
UID:48856@regionalniportaly.cz
DTSTAMP:20260422T222942Z
DTSTART;VALUE=DATE:20250318
DTEND;VALUE=DATE:20250319
SUMMARY:České podsvětí – Josef Klíma
DESCRIPTION:Autor populárního podcastu&nbsp\;České podsvětí\, zakladatel investigativní žurnalistiky v ČR Josef Klíma vypráví o divokých „devadesátkách"\, o tom\, jak se setkával s tehdejšími mocnými mafiány\, od Jonáka až po Krejčíře\, jak nebezpečné tehdy bylo být novinářem\, ale i tom\, jak se zločin mezitím proměnil. Odpovídá na otázky diváků\, které se mj. týkají i populárního seriálu&nbsp\;Sedm schodů k moci&nbsp\;(TV Prima)\, k němuž ho jako scénáristu volně inspiroval případ Nagyová-Nečas.Po skončení prodej knih Josefa Klímy a autogramiádou.
LOCATION:Moravské Budějovice
END:VEVENT
END:VCALENDAR