BEGIN:VCALENDAR
VERSION:2.0
CALSCALE:GREGORIAN
PRODID:-//MyApp//Calendar 1.0//EN
BEGIN:VEVENT
METHOD:PUBLISH
UID:48231@regionalniportaly.cz
DTSTAMP:20260422T195203Z
DTSTART;VALUE=DATE:20241230
DTEND;VALUE=DATE:20241231
SUMMARY:Vánoční Zvonky pro radost - ZUŠ Hrotovice
DESCRIPTION:Srdečně vás zveme na vánoční&nbsp\;koncert&nbsp\;v kostele svaté Markéty v Jaroměřicích nad Rokytnou\,&nbsp\; kde v pondělí 30. 12. 2024&nbsp\;od 17:00 hodin vystoupí&nbsp\;soubor "Zvonky pro radost"\, ze Základní umělecké školy Hrotovice&nbsp\;pod&nbsp\;vedením Ivany Šumpelové.Výtěžek z koncertu bude věnován na dokončení opravy varhan.Tím děkujeme Základní umělecké škole Hrotovice za podporu.
LOCATION:Jaroměřice nad Rokytnou
END:VEVENT
END:VCALENDAR