BEGIN:VCALENDAR
VERSION:2.0
CALSCALE:GREGORIAN
PRODID:-//MyApp//Calendar 1.0//EN
BEGIN:VEVENT
METHOD:PUBLISH
UID:47905@regionalniportaly.cz
DTSTAMP:20260422T210423Z
DTSTART;VALUE=DATE:20241206
DTEND;VALUE=DATE:20241207
SUMMARY:Sobík Niko: Cesta za polární záři
DESCRIPTION:Sobík Niko celý život sní o tom\, že se jednou stane vánočním sobem v Santově letce přesně jako jeho tatínek. Má to přece v genech! Netuší však\, že se na volné místo v sobím spřežení hlásí i Stella. Neznámá sobí slečna je opravdu hodně dobrá. Přestože jsou rivalové\, Niko se s ní spřátelí a bezelstně jí prozradí kód pro vstup k vzácným Santovým saním. Netuší však\, že Stella svou přízeň jen předstírá a ve skutečnosti chce saně ukrást a zničit tak Vánoce. Teď musí Niko napravit svou chybu. Společně se svými nejlepšími přáteli veverčákem Juliem a lasičkou Wilmou se vydává na dlouhou nebezpečnou cestu na daleký sever\, aby zachránili letošní Vánoce.
LOCATION:Moravské Budějovice
END:VEVENT
END:VCALENDAR