BEGIN:VCALENDAR
VERSION:2.0
CALSCALE:GREGORIAN
PRODID:-//MyApp//Calendar 1.0//EN
BEGIN:VEVENT
METHOD:PUBLISH
UID:47894@regionalniportaly.cz
DTSTAMP:20260422T194554Z
DTSTART;VALUE=DATE:20241112
DTEND;VALUE=DATE:20241113
SUMMARY:Veřejná debata s prezidentem Petrem Pavlem
DESCRIPTION:Veřejná debata s prezidentem Petrem Pavlem v Městském Kulturním středisku Moravské BudějovicePrezident Petr Pavel vyjíždí na pomezí Vysočiny a Jihomoravského kraje a mluví s jejich obyvateli. V úterý 12. listopadu 2024 v 18. hodin se s občany setká na veřejné debatě v Městském Kulturním středisku Moravské Budějovice. Lidé se ptají\, prezident odpovídá.&nbsp\;Debatu bude moderovat regionální šéfredaktor Deníku pro Vysočinu a Jihomoravský kraj Michal Šupálek.Chcete se jí zúčastnit i vy? Rezervujte si&nbsp\;místo v sále.Deník jako spoluorganizátor v rámci projektu Prezident mluví s občany bude debatu přenášet živě na webu Deník.cz a sociálních sítích.Jelikož se jedná o živý přenos\, bude vstup do sálu&nbsp\;uzavřen&nbsp\;v&nbsp\;17:50 a po tomto čase již nebude možné vstoupit. Prosíme tedy o včasný příchod. Vstup do sálu&nbsp\;bude umožněn od 17:20.
LOCATION:Moravské Budějovice
END:VEVENT
END:VCALENDAR