BEGIN:VCALENDAR
VERSION:2.0
CALSCALE:GREGORIAN
PRODID:-//MyApp//Calendar 1.0//EN
BEGIN:VEVENT
METHOD:PUBLISH
UID:47743@regionalniportaly.cz
DTSTAMP:20260422T193515Z
DTSTART;VALUE=DATE:20241116
DTEND;VALUE=DATE:20241117
SUMMARY:Duha slaví 35 let
DESCRIPTION:Taneční zábava s kapelami Duha country a Duha band. Srdečně zveme všechny příznivce.Točené pivo a občerstvení zajištěno.Předprodej vstupenek v síti smsticket.cz a turistickém informačním centru Moravské Budějovice.Vstupné na místě 180&nbsp\;Kč.
LOCATION:Moravské Budějovice
END:VEVENT
END:VCALENDAR