BEGIN:VCALENDAR
VERSION:2.0
CALSCALE:GREGORIAN
PRODID:-//MyApp//Calendar 1.0//EN
BEGIN:VEVENT
METHOD:PUBLISH
UID:47361@regionalniportaly.cz
DTSTAMP:20260422T194759Z
DTSTART;VALUE=DATE:20241213
DTEND;VALUE=DATE:20241214
SUMMARY:Tomáš Klus - Vánoce 365 dní v roce
DESCRIPTION:Srdečně vás&nbsp\;zveme na&nbsp\;DRUHÝ&nbsp\;koncert&nbsp\;Vánoce 365 dní v roce&nbsp\;v podání&nbsp\;Tomáše Kluse a Jiřího Kučerovského&nbsp\;v jedinečném prostoru barokního kostela svaté Markéty v Jaroměřicích nad Rokytnou.Děkujeme za váš mimořádný&nbsp\;zájem a těšíme na vaši návštěvu.&nbsp\;
LOCATION:Jaroměřice nad Rokytnou
END:VEVENT
END:VCALENDAR