BEGIN:VCALENDAR
VERSION:2.0
CALSCALE:GREGORIAN
PRODID:-//MyApp//Calendar 1.0//EN
BEGIN:VEVENT
METHOD:PUBLISH
UID:47265@regionalniportaly.cz
DTSTAMP:20260422T194642Z
DTSTART;VALUE=DATE:20241204
DTEND;VALUE=DATE:20241205
SUMMARY:Václav Noid Bárta - Vánoční koncert s kapelou Bek Bek Clan
DESCRIPTION:Charizmatický zpěvák s&nbsp\;nezaměnitelným hlasem.Na poli populární a rockové hudby v průběhu let spolupracoval jako skladatel\, aranžér a zpěvák například s&nbsp\;Lucií Bílou\, Bárou Basikovou\, Helenou Vondráčkovou\, Kamilem Střihavkou\, Lucií Vondráčkovou a dalšími.Je předním sólistou na scéně Hudebního divadla Karlín kde zazářil již v&nbsp\;roli Garcíi v&nbsp\;CARMEN\, následně ztvárnil Radamese v&nbsp\;AIDĚ\, hlavní roli Daniela v&nbsp\;muzikálu LUCIE\, VĚTŠÍ NEŽ MALÉ MNOŽSTVÍ LÁSKY\, sluhu Lurche v&nbsp\;THE ADDAMS FAMILY a Clydea v&nbsp\;muzikálu BONNIE AND CLYDE . Aktuálně září v&nbsp\;roli Ježíše\, ale i Jidáše Iškariotského a Piláta Pontského v&nbsp\;JESUS CHRIST SUPERSTAR\, &nbsp\;Curtise v muzikálu SESTRA V&nbsp\;AKCI a opět jako Garcia v&nbsp\;obnovené CARMEN.Je autorem hudby – muzikál Němcová\, filmy – Kájínek\, Pepa. Složil a nazpíval ústřední píseň k&nbsp\;seriálu Obchoďák pro Prima TV\, kde účinkoval i v&nbsp\;seriálu Svatby v&nbsp\;Benátkách a Krejzovi. Další role – Expozitura\, Kájínek.Předprodej vstupenek v&nbsp\;turistickém informačním centru Moravské Budějovice.
LOCATION:Moravské Budějovice
END:VEVENT
END:VCALENDAR