BEGIN:VCALENDAR
VERSION:2.0
CALSCALE:GREGORIAN
PRODID:-//MyApp//Calendar 1.0//EN
BEGIN:VEVENT
METHOD:PUBLISH
UID:46905@regionalniportaly.cz
DTSTAMP:20260422T194627Z
DTSTART;VALUE=DATE:20241101
DTEND;VALUE=DATE:20241102
SUMMARY:Strašidelná dušičková noc na jaroměřickém zámku
DESCRIPTION:
LOCATION:Jaroměřice nad Rokytnou
END:VEVENT
END:VCALENDAR