BEGIN:VCALENDAR
VERSION:2.0
CALSCALE:GREGORIAN
PRODID:-//MyApp//Calendar 1.0//EN
BEGIN:VEVENT
METHOD:PUBLISH
UID:46571@regionalniportaly.cz
DTSTAMP:20260422T223158Z
DTSTART;VALUE=DATE:20241207
DTEND;VALUE=DATE:20241208
SUMMARY:Adventní koncert při svíčkách
DESCRIPTION:Srdečně vás zveme na výjimečný Adventní koncert při svíčkách v kostele sv. Markéty v Jaroměřicích nad Rokytnou.Těšit se můžete na varhanici&nbsp\;Michaelu&nbsp\;Káčerkovou&nbsp\;s Ondřejem Vrabcem\, solohornistou České filharmonie v nádherné atmosféře kostela osvětleného pouze svíčkami.Přijďte s námi společně prožít krásné chvíle adventní doby.Po koncertě možnost přátelského posezení.
LOCATION:Jaroměřice nad Rokytnou
END:VEVENT
END:VCALENDAR