BEGIN:VCALENDAR
VERSION:2.0
CALSCALE:GREGORIAN
PRODID:-//MyApp//Calendar 1.0//EN
BEGIN:VEVENT
METHOD:PUBLISH
UID:46513@regionalniportaly.cz
DTSTAMP:20260422T194810Z
DTSTART;VALUE=DATE:20241117
DTEND;VALUE=DATE:20241118
SUMMARY:Písně pro Sametovou revoluci
DESCRIPTION:Srdečně vás zveme na&nbsp\;koncert v podání zpěvačky Elin Špidlové\, kde si můžete vyslechnout i známé písně Sametové revoluce v doprovodu recitace Tomáše Holcnera\, místního faráře. &nbsp\;Na jaké písně se můžete těšit?Modlitba pro MartuImagine / What a Wonderful WorldKde je to psáno?- muzikál YentlMít rád bližního svého - muzikál Jesus Christ SuperstarSomewhere - muzikál West Side StoryVíra - muzikál GalileoJednoho dne se vrátíš - film Tenkrát na západěSvatá nocHallelujahPřijďte si s námi připomenout oslavu&nbsp\;Dne boje za svobodu a demokracii v tak výjimečném prostoru\, jako je barokní Perla Vysočiny.&nbsp\;
LOCATION:Jaroměřice nad Rokytnou
END:VEVENT
END:VCALENDAR